BEGIN:VCALENDAR
VERSION:2.0
PRODID:-//Sale Creek Middle High - ECPv6.15.20//NONSGML v1.0//EN
CALSCALE:GREGORIAN
METHOD:PUBLISH
X-WR-CALNAME:Sale Creek Middle High
X-ORIGINAL-URL:https://scmhs.staging.hcde.org
X-WR-CALDESC:Events for Sale Creek Middle High
REFRESH-INTERVAL;VALUE=DURATION:PT1H
X-Robots-Tag:noindex
X-PUBLISHED-TTL:PT1H
BEGIN:VTIMEZONE
TZID:America/New_York
BEGIN:DAYLIGHT
TZOFFSETFROM:-0500
TZOFFSETTO:-0400
TZNAME:EDT
DTSTART:20240310T070000
END:DAYLIGHT
BEGIN:STANDARD
TZOFFSETFROM:-0400
TZOFFSETTO:-0500
TZNAME:EST
DTSTART:20241103T060000
END:STANDARD
BEGIN:DAYLIGHT
TZOFFSETFROM:-0500
TZOFFSETTO:-0400
TZNAME:EDT
DTSTART:20250309T070000
END:DAYLIGHT
BEGIN:STANDARD
TZOFFSETFROM:-0400
TZOFFSETTO:-0500
TZNAME:EST
DTSTART:20251102T060000
END:STANDARD
BEGIN:DAYLIGHT
TZOFFSETFROM:-0500
TZOFFSETTO:-0400
TZNAME:EDT
DTSTART:20260308T070000
END:DAYLIGHT
BEGIN:STANDARD
TZOFFSETFROM:-0400
TZOFFSETTO:-0500
TZNAME:EST
DTSTART:20261101T060000
END:STANDARD
BEGIN:DAYLIGHT
TZOFFSETFROM:-0500
TZOFFSETTO:-0400
TZNAME:EDT
DTSTART:20270314T070000
END:DAYLIGHT
BEGIN:STANDARD
TZOFFSETFROM:-0400
TZOFFSETTO:-0500
TZNAME:EST
DTSTART:20271107T060000
END:STANDARD
END:VTIMEZONE
BEGIN:VEVENT
DTSTART;TZID=America/New_York:20260312T173000
DTEND;TZID=America/New_York:20260312T193000
DTSTAMP:20260425T163109
CREATED:20260303T142801Z
LAST-MODIFIED:20260303T142801Z
UID:10000040-1773336600-1773343800@scmhs.staging.hcde.org
SUMMARY:MS Softball v. CSTHEA
DESCRIPTION:
URL:https://scmhs.staging.hcde.org/event/ms-softball-v-csthea/
CATEGORIES:Schools
END:VEVENT
BEGIN:VEVENT
DTSTART;TZID=America/New_York:20260312T163000
DTEND;TZID=America/New_York:20260312T173000
DTSTAMP:20260425T163109
CREATED:20260303T142800Z
LAST-MODIFIED:20260303T142800Z
UID:10000037-1773333000-1773336600@scmhs.staging.hcde.org
SUMMARY:MS Soccer v. Brown
DESCRIPTION:
URL:https://scmhs.staging.hcde.org/event/ms-soccer-v-brown/
CATEGORIES:Schools
END:VEVENT
BEGIN:VEVENT
DTSTART;TZID=America/New_York:20260312T160000
DTEND;TZID=America/New_York:20260312T170000
DTSTAMP:20260425T163109
CREATED:20260303T142801Z
LAST-MODIFIED:20260303T142801Z
UID:10000038-1773331200-1773334800@scmhs.staging.hcde.org
SUMMARY:HS Baseball v. Marion Co.
DESCRIPTION:
URL:https://scmhs.staging.hcde.org/event/hs-baseball-v-marion-co/
CATEGORIES:Schools
END:VEVENT
BEGIN:VEVENT
DTSTART;TZID=America/New_York:20260310T190000
DTEND;TZID=America/New_York:20260310T200000
DTSTAMP:20260425T163109
CREATED:20260303T142800Z
LAST-MODIFIED:20260303T142800Z
UID:10000036-1773169200-1773172800@scmhs.staging.hcde.org
SUMMARY:HS Boys Soccer v. Sequatchie County
DESCRIPTION:
URL:https://scmhs.staging.hcde.org/event/hs-boys-soccer-v-sequatchie-county/
CATEGORIES:Schools
END:VEVENT
BEGIN:VEVENT
DTSTART;TZID=America/New_York:20260310T173000
DTEND;TZID=America/New_York:20260310T183000
DTSTAMP:20260425T163109
CREATED:20260303T142800Z
LAST-MODIFIED:20260303T142800Z
UID:10000034-1773163800-1773167400@scmhs.staging.hcde.org
SUMMARY:HS Softball v. Rockwood
DESCRIPTION:
URL:https://scmhs.staging.hcde.org/event/hs-softball-v-rockwood/
CATEGORIES:Schools
END:VEVENT
BEGIN:VEVENT
DTSTART;TZID=America/New_York:20260310T163000
DTEND;TZID=America/New_York:20260310T173000
DTSTAMP:20260425T163109
CREATED:20260303T142800Z
LAST-MODIFIED:20260303T142800Z
UID:10000035-1773160200-1773163800@scmhs.staging.hcde.org
SUMMARY:MS Soccer v. Dalewood
DESCRIPTION:
URL:https://scmhs.staging.hcde.org/event/ms-soccer-v-dalewood/
CATEGORIES:Schools
END:VEVENT
BEGIN:VEVENT
DTSTART;TZID=America/New_York:20260309T180000
DTEND;TZID=America/New_York:20260309T190000
DTSTAMP:20260425T163109
CREATED:20260303T142800Z
LAST-MODIFIED:20260303T142800Z
UID:10000033-1773079200-1773082800@scmhs.staging.hcde.org
SUMMARY:HS Baseball v. Midway
DESCRIPTION:
URL:https://scmhs.staging.hcde.org/event/hs-baseball-v-midway/
CATEGORIES:Schools
END:VEVENT
BEGIN:VEVENT
DTSTART;TZID=America/New_York:20260309T173000
DTEND;TZID=America/New_York:20260309T200000
DTSTAMP:20260425T163109
CREATED:20260309T151531Z
LAST-MODIFIED:20260309T151531Z
UID:10000107-1773077400-1773086400@scmhs.staging.hcde.org
SUMMARY:HS Flag Football v. SDHS
DESCRIPTION:JV at 5:30 and V at 7
URL:https://scmhs.staging.hcde.org/event/hs-flag-football-v-sdhs/
CATEGORIES:Schools
END:VEVENT
BEGIN:VEVENT
DTSTART;VALUE=DATE:20260307
DTEND;VALUE=DATE:20260308
DTSTAMP:20260425T163109
CREATED:20260303T142759Z
LAST-MODIFIED:20260303T142759Z
UID:10000029-1772841600-1772927999@scmhs.staging.hcde.org
SUMMARY:Fishing Tourney - Tims Ford
DESCRIPTION:
URL:https://scmhs.staging.hcde.org/event/fishing-tourney-tims-ford/
CATEGORIES:Schools
END:VEVENT
BEGIN:VEVENT
DTSTART;VALUE=DATE:20260306
DTEND;VALUE=DATE:20260307
DTSTAMP:20260425T163109
CREATED:20260303T142759Z
LAST-MODIFIED:20260303T142759Z
UID:10000030-1772755200-1772841599@scmhs.staging.hcde.org
SUMMARY:MS Baseball v. Red Bank
DESCRIPTION:
URL:https://scmhs.staging.hcde.org/event/ms-baseball-v-red-bank/
CATEGORIES:Schools
END:VEVENT
BEGIN:VEVENT
DTSTART;TZID=America/New_York:20260305T183000
DTEND;TZID=America/New_York:20260305T193000
DTSTAMP:20260425T163109
CREATED:20260303T142759Z
LAST-MODIFIED:20260303T142759Z
UID:10000028-1772735400-1772739000@scmhs.staging.hcde.org
SUMMARY:HS Boys Soccer v. Rockwood
DESCRIPTION:
URL:https://scmhs.staging.hcde.org/event/hs-boys-soccer-v-rockwood/
CATEGORIES:Schools
END:VEVENT
BEGIN:VEVENT
DTSTART;TZID=America/New_York:20260305T170000
DTEND;TZID=America/New_York:20260305T180000
DTSTAMP:20260425T163109
CREATED:20260303T142759Z
LAST-MODIFIED:20260303T142759Z
UID:10000027-1772730000-1772733600@scmhs.staging.hcde.org
SUMMARY:HS Softball v. Notre Dame
DESCRIPTION:
URL:https://scmhs.staging.hcde.org/event/hs-softball-v-notre-dame/
CATEGORIES:Schools
END:VEVENT
BEGIN:VEVENT
DTSTART;TZID=America/New_York:20260305T163000
DTEND;TZID=America/New_York:20260305T173000
DTSTAMP:20260425T163109
CREATED:20260303T142800Z
LAST-MODIFIED:20260303T142800Z
UID:10000032-1772728200-1772731800@scmhs.staging.hcde.org
SUMMARY:MS Soccer v. Tyner
DESCRIPTION:
URL:https://scmhs.staging.hcde.org/event/ms-soccer-v-tyner/
CATEGORIES:Schools
END:VEVENT
BEGIN:VEVENT
DTSTART;VALUE=DATE:20260305
DTEND;VALUE=DATE:20260306
DTSTAMP:20260425T163109
CREATED:20260303T142800Z
LAST-MODIFIED:20260303T142800Z
UID:10000031-1772668800-1772755199@scmhs.staging.hcde.org
SUMMARY:MS Baseball v. Loftis
DESCRIPTION:
URL:https://scmhs.staging.hcde.org/event/ms-baseball-v-loftis/
CATEGORIES:Schools
END:VEVENT
BEGIN:VEVENT
DTSTART;VALUE=DATE:20260304
DTEND;VALUE=DATE:20260305
DTSTAMP:20260425T163109
CREATED:20260303T142759Z
LAST-MODIFIED:20260303T142759Z
UID:10000025-1772582400-1772668799@scmhs.staging.hcde.org
SUMMARY:MS Baseball v. CSLA
DESCRIPTION:
URL:https://scmhs.staging.hcde.org/event/ms-baseball-v-csla/
CATEGORIES:Schools
END:VEVENT
BEGIN:VEVENT
DTSTART;TZID=America/New_York:20260303T180000
DTEND;TZID=America/New_York:20260303T190000
DTSTAMP:20260425T163109
CREATED:20260303T142759Z
LAST-MODIFIED:20260303T142759Z
UID:10000026-1772560800-1772564400@scmhs.staging.hcde.org
SUMMARY:HS Boys Soccer v. Lookout Valley
DESCRIPTION:
URL:https://scmhs.staging.hcde.org/event/hs-boys-soccer-v-lookout-valley/
CATEGORIES:Schools
END:VEVENT
BEGIN:VEVENT
DTSTART;TZID=America/New_York:20260303T173000
DTEND;TZID=America/New_York:20260303T183000
DTSTAMP:20260425T163109
CREATED:20260303T142759Z
LAST-MODIFIED:20260303T142759Z
UID:10000024-1772559000-1772562600@scmhs.staging.hcde.org
SUMMARY:HS Baseball v. CSAS
DESCRIPTION:
URL:https://scmhs.staging.hcde.org/event/hs-baseball-v-csas/
CATEGORIES:Schools
END:VEVENT
BEGIN:VEVENT
DTSTART;TZID=America/New_York:20260303T173000
DTEND;TZID=America/New_York:20260303T183000
DTSTAMP:20260425T163109
CREATED:20260303T142758Z
LAST-MODIFIED:20260303T142758Z
UID:10000022-1772559000-1772562600@scmhs.staging.hcde.org
SUMMARY:HS Softball v. East Hamilton
DESCRIPTION:
URL:https://scmhs.staging.hcde.org/event/hs-softball-v-east-hamilton/
CATEGORIES:Schools
END:VEVENT
BEGIN:VEVENT
DTSTART;TZID=America/New_York:20260303T163000
DTEND;TZID=America/New_York:20260303T173000
DTSTAMP:20260425T163109
CREATED:20260303T142758Z
LAST-MODIFIED:20260303T142758Z
UID:10000023-1772555400-1772559000@scmhs.staging.hcde.org
SUMMARY:MS Soccer v. Lookout Valley
DESCRIPTION:
URL:https://scmhs.staging.hcde.org/event/ms-soccer-v-lookout-valley/
CATEGORIES:Schools
END:VEVENT
BEGIN:VEVENT
DTSTART;VALUE=DATE:20260228
DTEND;VALUE=DATE:20260301
DTSTAMP:20260425T163109
CREATED:20260222T201812Z
LAST-MODIFIED:20260222T202306Z
UID:10000019-1772236800-1772323199@scmhs.staging.hcde.org
SUMMARY:Lady Panthers Softball Play Day
DESCRIPTION:
URL:https://scmhs.staging.hcde.org/event/lady-panthers-softball-play-day/
CATEGORIES:Schools
END:VEVENT
BEGIN:VEVENT
DTSTART;VALUE=DATE:20260226
DTEND;VALUE=DATE:20260227
DTSTAMP:20260425T163109
CREATED:20260222T201501Z
LAST-MODIFIED:20260222T201501Z
UID:10000018-1772064000-1772150399@scmhs.staging.hcde.org
SUMMARY:MS Baseball Away @Spring City
DESCRIPTION:
URL:https://scmhs.staging.hcde.org/event/ms-baseball-away-spring-city/
CATEGORIES:Schools
END:VEVENT
BEGIN:VEVENT
DTSTART;VALUE=DATE:20260202
DTEND;VALUE=DATE:20260204
DTSTAMP:20260425T163109
CREATED:20250701T175050Z
LAST-MODIFIED:20250701T175050Z
UID:10000014-1769990400-1770163199@scmhs.staging.hcde.org
SUMMARY:Groundhog Day
DESCRIPTION:
URL:https://scmhs.staging.hcde.org/event/groundhog-day/
CATEGORIES:US Holiday
END:VEVENT
BEGIN:VEVENT
DTSTART;VALUE=DATE:20251225
DTEND;VALUE=DATE:20251227
DTSTAMP:20260425T163109
CREATED:20250701T175039Z
LAST-MODIFIED:20250701T175039Z
UID:10000004-1766620800-1766793599@scmhs.staging.hcde.org
SUMMARY:Christmas Day
DESCRIPTION:
URL:https://scmhs.staging.hcde.org/event/christmas-day/
CATEGORIES:US Holiday
END:VEVENT
BEGIN:VEVENT
DTSTART;VALUE=DATE:20251224
DTEND;VALUE=DATE:20251226
DTSTAMP:20260425T163109
CREATED:20250701T175039Z
LAST-MODIFIED:20250701T175039Z
UID:10000005-1766534400-1766707199@scmhs.staging.hcde.org
SUMMARY:Christmas Eve
DESCRIPTION:
URL:https://scmhs.staging.hcde.org/event/christmas-eve/
CATEGORIES:US Holiday
END:VEVENT
BEGIN:VEVENT
DTSTART;VALUE=DATE:20251128
DTEND;VALUE=DATE:20251130
DTSTAMP:20260425T163109
CREATED:20250701T175040Z
LAST-MODIFIED:20250701T175040Z
UID:10000007-1764288000-1764460799@scmhs.staging.hcde.org
SUMMARY:Day After Thanksgiving Day
DESCRIPTION:
URL:https://scmhs.staging.hcde.org/event/day-after-thanksgiving-day/
CATEGORIES:US Holiday
END:VEVENT
BEGIN:VEVENT
DTSTART;VALUE=DATE:20251104
DTEND;VALUE=DATE:20251106
DTSTAMP:20260425T163109
CREATED:20250701T175043Z
LAST-MODIFIED:20250701T175043Z
UID:10000009-1762214400-1762387199@scmhs.staging.hcde.org
SUMMARY:Election Day
DESCRIPTION:
URL:https://scmhs.staging.hcde.org/event/election-day/
CATEGORIES:US Holiday
END:VEVENT
BEGIN:VEVENT
DTSTART;VALUE=DATE:20251031
DTEND;VALUE=DATE:20251102
DTSTAMP:20260425T163109
CREATED:20250701T175051Z
LAST-MODIFIED:20250701T175051Z
UID:10000015-1761868800-1762041599@scmhs.staging.hcde.org
SUMMARY:Halloween
DESCRIPTION:
URL:https://scmhs.staging.hcde.org/event/halloween/
CATEGORIES:US Holiday
END:VEVENT
BEGIN:VEVENT
DTSTART;VALUE=DATE:20251013
DTEND;VALUE=DATE:20251019
DTSTAMP:20260425T163109
CREATED:20250701T175043Z
LAST-MODIFIED:20250701T175043Z
UID:10000010-1760313600-1760831999@scmhs.staging.hcde.org
SUMMARY:Fall Break
DESCRIPTION:
URL:https://scmhs.staging.hcde.org/event/fall-break/
END:VEVENT
BEGIN:VEVENT
DTSTART;VALUE=DATE:20251013
DTEND;VALUE=DATE:20251015
DTSTAMP:20260425T163109
CREATED:20250701T175039Z
LAST-MODIFIED:20250701T175039Z
UID:10000006-1760313600-1760486399@scmhs.staging.hcde.org
SUMMARY:Columbus Day
DESCRIPTION:
URL:https://scmhs.staging.hcde.org/event/columbus-day/
CATEGORIES:US Holiday
END:VEVENT
BEGIN:VEVENT
DTSTART;VALUE=DATE:20250901
DTEND;VALUE=DATE:20250903
DTSTAMP:20260425T163109
CREATED:20250701T175051Z
LAST-MODIFIED:20250701T175051Z
UID:10000017-1756684800-1756857599@scmhs.staging.hcde.org
SUMMARY:Labor Day
DESCRIPTION:
URL:https://scmhs.staging.hcde.org/event/labor-day/
CATEGORIES:US Holiday
END:VEVENT
END:VCALENDAR